BEGIN:VCALENDAR
VERSION:2.0
METHOD:PUBLISH
X-WR-CALNAME:V zájmu dítěte |  Prosinec 01 2016- Leden 01 2017 | Filtr\: 
PRODID:-//strange bird labs//Drupal iCal API//EN
BEGIN:VEVENT
DTSTAMP;VALUE=DATE-TIME:20260426T042714Z
DTSTART;VALUE=DATE-TIME:20161030T174600Z
DTEND;VALUE=DATE-TIME:20020203
UID:https://vzd.cz/minipride-%E2%80%93-tymova-spoluprace-20-hodin-akreditace-mpsv-cr-trebic
URL;VALUE=URI:https://vzd.cz/minipride-%E2%80%93-tymova-spoluprace-20-hodin-akreditace-mpsv-cr-trebic
SUMMARY:MiniPRIDE – týmová spolupráce\, 20 hodin (akreditace MPSV ČR)  Třebíč
DESCRIPTION:<p>Do tohoto kurzu je možné se přihlásit na <a href=\\"mailto\:zakora@pride-cz.com\\">zakora@pride-cz.com</a></p>
 
END:VEVENT
BEGIN:VEVENT
DTSTAMP;VALUE=DATE-TIME:20260426T042714Z
DTSTART;VALUE=DATE-TIME:20161205T180400Z
DTEND;VALUE=DATE-TIME:20020203
UID:https://vzd.cz/zaklady-vedeni-rozhovoru-s-ditetem-velky-vuz-sever-praha-1
URL;VALUE=URI:https://vzd.cz/zaklady-vedeni-rozhovoru-s-ditetem-velky-vuz-sever-praha-1
SUMMARY:Základy vedení rozhovoru s dítětem (Velký vůz Sever\, Praha)
DESCRIPTION:<p><a href=\\"http\://www.velkyvuz-sever.cz/events/zaklady-vedeni-rozhovoru-s-ditetem-51/\\" title=\\"http\://www.velkyvuz-sever.cz/events/zaklady-vedeni-rozhovoru-s-ditetem-51/\\">http\://www.velkyvuz-sever.cz/events/zaklady-vedeni-rozhovoru-s-ditetem-51/</a></p>
 
END:VEVENT
BEGIN:VEVENT
DTSTAMP;VALUE=DATE-TIME:20260426T042714Z
DTSTART;VALUE=DATE-TIME:20161214T180700Z
DTEND;VALUE=DATE-TIME:20020203
UID:https://vzd.cz/vyuziti-facilitace-v-socialni-praci-velky-vuz-sever-praha
URL;VALUE=URI:https://vzd.cz/vyuziti-facilitace-v-socialni-praci-velky-vuz-sever-praha
SUMMARY:Využití facilitace v sociální práci (Velký vůz Sever\, Praha)
DESCRIPTION:<p><a href=\\"http\://www.velkyvuz-sever.cz/events/zaklady-facilitace-40/\\" title=\\"http\://www.velkyvuz-sever.cz/events/zaklady-facilitace-40/\\">http\://www.velkyvuz-sever.cz/events/zaklady-facilitace-40/</a></p>
 
END:VEVENT
END:VCALENDAR
