BEGIN:VCALENDAR
VERSION:2.0
METHOD:PUBLISH
X-WR-CALNAME:V zájmu dítěte |  Březen 01 2017- Duben 01 2017 | Filtr\: 
PRODID:-//strange bird labs//Drupal iCal API//EN
BEGIN:VEVENT
DTSTAMP;VALUE=DATE-TIME:20260425T231249Z
DTSTART;VALUE=DATE-TIME:20170223T134600Z
DTEND;VALUE=DATE-TIME:20020203
UID:https://vzd.cz/efektivni-komunikace-rodinna-diagnostika-pro-pracovniky-soc-pravni-ochrany-velky-vuz-sever-praha
URL;VALUE=URI:https://vzd.cz/efektivni-komunikace-rodinna-diagnostika-pro-pracovniky-soc-pravni-ochrany-velky-vuz-sever-praha
SUMMARY:Efektivní komunikace a rodinná diagnostika pro pracovníky soc. právní ochrany (Velký vůz Sever\, Praha)
DESCRIPTION:<p><a href=\\"http\://www.velkyvuz-sever.cz/events/efektivni-komunikace-a-rodinna-diagnostika-pro-pracovniky-socialne-pravni-ochrany-4/\\" title=\\"http\://www.velkyvuz-sever.cz/events/efektivni-komunikace-a-rodinna-diagnostika-pro-pracovniky-socialne-pravni-ochrany-4/\\">http\://www.velkyvuz-sever.cz/events/efektivni-komunikace-a-rodinna-diagn...</a></p>
 
END:VEVENT
BEGIN:VEVENT
DTSTAMP;VALUE=DATE-TIME:20260425T231249Z
DTSTART;VALUE=DATE-TIME:20170303T135100Z
DTEND;VALUE=DATE-TIME:20020203
UID:https://vzd.cz/zaklady-vedeni-rozhovoru-s-ditetem-velky-vuz-sever-praha-2
URL;VALUE=URI:https://vzd.cz/zaklady-vedeni-rozhovoru-s-ditetem-velky-vuz-sever-praha-2
SUMMARY:Základy vedení rozhovoru s dítětem (Velký vůz Sever\, Praha)
DESCRIPTION:<p><a href=\\"http\://www.velkyvuz-sever.cz/events/zaklady-vedeni-rozhovoru-s-ditetem-53/\\" title=\\"http\://www.velkyvuz-sever.cz/events/zaklady-vedeni-rozhovoru-s-ditetem-53/\\">http\://www.velkyvuz-sever.cz/events/zaklady-vedeni-rozhovoru-s-ditetem-53/</a></p>
 
END:VEVENT
BEGIN:VEVENT
DTSTAMP;VALUE=DATE-TIME:20260425T231249Z
DTSTART;VALUE=DATE-TIME:20170316T122900Z
DTEND;VALUE=DATE-TIME:20020203
UID:https://vzd.cz/jak-mluvit-s-detmi-i-%E2%80%93-aby-se-citily-prijate-amalthea-pardubice
URL;VALUE=URI:https://vzd.cz/jak-mluvit-s-detmi-i-%E2%80%93-aby-se-citily-prijate-amalthea-pardubice
SUMMARY:Jak mluvit s dětmi I.  – Aby se cítily přijaté  (Amalthea\, Pardubice)
DESCRIPTION:<p>Seminář je určen\: rodičům/pěstounům přijatých dětí\, všem pracovníkům\, kteří pracují s dětmi\, náhradními nebo ohroženými rodinami\, pracovníkům v přípravě budoucích náhradních rodičů. Anotace semináře\:  První část série kurzů praktických technik komunikace rodičů s dětmi na základě úspěšné publikace A. FABER a E. MAZLICH – Jak mluvit\, aby nás děti poslouchaly\, Computer press\: Brno 2007. Základem jsou praktická cvičení vedoucí k porozumění některým důsledkům způsobu komunikace s dětmi a k praktickým nácvikům efektivní komunikace.   </p>
 <p>Rozsah semináře a místo konání\: 8 hodin\, Pardubice<br />
 Cena\: 1 600\,- Kč<br />
 Lektor\: PhDr. Jan Vyhnálek<br />
 Max. kapacita semináře\: 16 – 20 účastníků<br />
 Osvědčení\: osvědčení o absolvování   </p>
 <p><a href=\\"http\://www.amalthea.cz\\" title=\\"www.amalthea.cz\\">www.amalthea.cz</a><br />
 <a href=\\"mailto\:vzdelavani@amalthea.cz\\">vzdelavani@amalthea.cz</a>\, tel.774 214 696</p>
 
END:VEVENT
BEGIN:VEVENT
DTSTAMP;VALUE=DATE-TIME:20260425T231249Z
DTSTART;VALUE=DATE-TIME:20170321T200100Z
DTEND;VALUE=DATE-TIME:20020203
UID:https://vzd.cz/bezpecna-sit-tranzitni-pece-jako-systematicky-nastroj-zapojovani-deti-do-rozhodovacich-procesu-safra
URL;VALUE=URI:https://vzd.cz/bezpecna-sit-tranzitni-pece-jako-systematicky-nastroj-zapojovani-deti-do-rozhodovacich-procesu-safra
SUMMARY:Bezpečná síť - tranzitní péče jako systematický nástroj zapojování dětí do rozhodovacích procesů (Šafrán\, Praha)
DESCRIPTION:<p>Pořádá Šafrán dětem<br />
 Hotel Esplanade Praha\, Washingtonova 1600/19\, Praha<br />
 Potvrzení účasti do 17. 3. 2017 na adresu <a href=\\"mailto\:zuzka.pavlovska@gmail.com\\">zuzka.pavlovska@gmail.com</a></p>
 
END:VEVENT
BEGIN:VEVENT
DTSTAMP;VALUE=DATE-TIME:20260425T231249Z
DTSTART;VALUE=DATE-TIME:20170322T123300Z
DTEND;VALUE=DATE-TIME:20020203
UID:https://vzd.cz/jak-mluvit-s-detmi-ii-jak-vest-ke-spolupraci
URL;VALUE=URI:https://vzd.cz/jak-mluvit-s-detmi-ii-jak-vest-ke-spolupraci
SUMMARY:Jak mluvit s dětmi II.  - Jak vést ke spolupráci  
END:VEVENT
BEGIN:VEVENT
DTSTAMP;VALUE=DATE-TIME:20260425T231249Z
DTSTART;VALUE=DATE-TIME:20170323T195500Z
DTEND;VALUE=DATE-TIME:20020203
UID:https://vzd.cz/otazky-rodinne-politiky-praxe-konference-domus-plzen
URL;VALUE=URI:https://vzd.cz/otazky-rodinne-politiky-praxe-konference-domus-plzen
SUMMARY:Otázky rodinné politiky a praxe - konference (DOMUS\, Plzeň)
DESCRIPTION:<p>pořádá DOMUS – Centrum pro rodinu\, z.s.<br />
 Krajský úřad Plzeňského kraje<br />
 <a href=\\"http\://domus-cpr.cz/pozvanka-na-konferenci-otazky-rodinne-politiky-a-praxe/\\" title=\\"http\://domus-cpr.cz/pozvanka-na-konferenci-otazky-rodinne-politiky-a-praxe/\\">http\://domus-cpr.cz/pozvanka-na-konferenci-otazky-rodinne-politiky-a-praxe/</a></p>
 
END:VEVENT
BEGIN:VEVENT
DTSTAMP;VALUE=DATE-TIME:20260425T231249Z
DTSTART;VALUE=DATE-TIME:20170329T124400Z
DTEND;VALUE=DATE-TIME:20020203
UID:https://vzd.cz/jak-mluvit-s-detmi-iii-%E2%80%93-jak-vest-k-dodrzovani-pravidel-amalthea-pardubice
URL;VALUE=URI:https://vzd.cz/jak-mluvit-s-detmi-iii-%E2%80%93-jak-vest-k-dodrzovani-pravidel-amalthea-pardubice
SUMMARY:Jak mluvit s dětmi III. – Jak vést k dodržování pravidel (Amalthea\, Pardubice)
DESCRIPTION:<p>Seminář je určen\: rodičům/pěstounům přijatých dětí\, všem pracovníkům\, kteří pracují s dětmi\, náhradními nebo ohroženými rodinami\, pracovníkům v přípravě budoucích náhradních rodičů. Anotace semináře\: Seminář navazuje na první a druhou část série\, není nezbytné mít absolvované předchozí části\, i když je to výhodou. Třetí část série kurzu praktických technik komunikace rodičů s dětmi na základě úspěšné publikace Adele Faber a Elaine Mazlich\: Jak mluvit\, aby nás děti poslouchaly (C-Press Brno\, 2007).</p>
 
END:VEVENT
BEGIN:VEVENT
DTSTAMP;VALUE=DATE-TIME:20260425T231249Z
DTSTART;VALUE=DATE-TIME:20170330T134300Z
DTEND;VALUE=DATE-TIME:20020203
UID:https://vzd.cz/my-backpack-vzdelavaci-program-triada-brno
URL;VALUE=URI:https://vzd.cz/my-backpack-vzdelavaci-program-triada-brno
SUMMARY:MY BACKPACK - vzdělávací program (Triáda\, Brno)
DESCRIPTION:<p>TRIADA – Poradenské centrum\, z.ú. nositel licence pro šíření metody<br />
 Akreditovaný vzdělávací program MPSV ČR č. 2015/0023-PC/SP</p>
 
END:VEVENT
END:VCALENDAR
