BEGIN:VCALENDAR
VERSION:2.0
METHOD:PUBLISH
X-WR-CALNAME:V zájmu dítěte |  Duben 11 2017- Květen 11 2017
PRODID:-//strange bird labs//Drupal iCal API//EN
BEGIN:VEVENT
DTSTAMP;VALUE=DATE-TIME:20260426T035900Z
DTSTART;VALUE=DATE-TIME:20170223T134600Z
DTEND;VALUE=DATE-TIME:20020203
UID:https://vzd.cz/efektivni-komunikace-rodinna-diagnostika-pro-pracovniky-soc-pravni-ochrany-velky-vuz-sever-praha
URL;VALUE=URI:https://vzd.cz/efektivni-komunikace-rodinna-diagnostika-pro-pracovniky-soc-pravni-ochrany-velky-vuz-sever-praha
SUMMARY:Efektivní komunikace a rodinná diagnostika pro pracovníky soc. právní ochrany (Velký vůz Sever\, Praha)
DESCRIPTION:<p><a href=\\"http\://www.velkyvuz-sever.cz/events/efektivni-komunikace-a-rodinna-diagnostika-pro-pracovniky-socialne-pravni-ochrany-4/\\" title=\\"http\://www.velkyvuz-sever.cz/events/efektivni-komunikace-a-rodinna-diagnostika-pro-pracovniky-socialne-pravni-ochrany-4/\\">http\://www.velkyvuz-sever.cz/events/efektivni-komunikace-a-rodinna-diagn...</a></p>
 
END:VEVENT
BEGIN:VEVENT
DTSTAMP;VALUE=DATE-TIME:20260426T035900Z
DTSTART;VALUE=DATE-TIME:20170330T134300Z
DTEND;VALUE=DATE-TIME:20020203
UID:https://vzd.cz/my-backpack-vzdelavaci-program-triada-brno
URL;VALUE=URI:https://vzd.cz/my-backpack-vzdelavaci-program-triada-brno
SUMMARY:MY BACKPACK - vzdělávací program (Triáda\, Brno)
DESCRIPTION:<p>TRIADA – Poradenské centrum\, z.ú. nositel licence pro šíření metody<br />
 Akreditovaný vzdělávací program MPSV ČR č. 2015/0023-PC/SP</p>
 
END:VEVENT
BEGIN:VEVENT
DTSTAMP;VALUE=DATE-TIME:20260426T035900Z
DTSTART;VALUE=DATE-TIME:20170510T135100Z
DTEND;VALUE=DATE-TIME:20020203
UID:https://vzd.cz/zaklady-diagnostiky-rodiny-pro-socialni-pracovniky-crsp-brno
URL;VALUE=URI:https://vzd.cz/zaklady-diagnostiky-rodiny-pro-socialni-pracovniky-crsp-brno
SUMMARY:Základy diagnostiky rodiny pro sociální pracovníky (CRSP\, Brno)
DESCRIPTION:<p>Kurz akreditovaný MPSV pro odborníky ve službách pro rodiny s dětmi (sociální pracovníci OSPOD\, doprovázející organizace atd.)</p>
 <p>Termín\: 10. 5. 2017 - 12. 5. 2017</p>
 <p>Cena\: 3700 Kč</p>
 <p>Rozsah\: 24 hodin</p>
 <p>Místo konání\: Centrum pro rodinu a sociální péči\, Biskupská 7 a Josefská 1\, Brno</p>
 <p>Obsah\:<br />
 •Sociální terapie (obsah\, cíle a nástroje)<br />
 •Teorie a praxe rodinné diagnostiky<br />
 •Ukázky použití diagnostických nástrojů (Test rodinného zázemí\, FAST\, Práce na pískovišti\, Scénotest\, Škála rodinného prostředí)<br />
 •Jak se v jednotlivých metodách dále vzdělávat a možnosti supervize</p>
 
END:VEVENT
END:VCALENDAR
