BEGIN:VCALENDAR
VERSION:2.0
METHOD:PUBLISH
X-WR-CALNAME:V zájmu dítěte |  Květen 25 2017- Červen 24 2017
PRODID:-//strange bird labs//Drupal iCal API//EN
BEGIN:VEVENT
DTSTAMP;VALUE=DATE-TIME:20260426T005823Z
DTSTART;VALUE=DATE-TIME:20170330T134300Z
DTEND;VALUE=DATE-TIME:20020203
UID:https://vzd.cz/my-backpack-vzdelavaci-program-triada-brno
URL;VALUE=URI:https://vzd.cz/my-backpack-vzdelavaci-program-triada-brno
SUMMARY:MY BACKPACK - vzdělávací program (Triáda\, Brno)
DESCRIPTION:<p>TRIADA – Poradenské centrum\, z.ú. nositel licence pro šíření metody<br />
 Akreditovaný vzdělávací program MPSV ČR č. 2015/0023-PC/SP</p>
 
END:VEVENT
BEGIN:VEVENT
DTSTAMP;VALUE=DATE-TIME:20260426T005823Z
DTSTART;VALUE=DATE-TIME:20170525T205400Z
DTEND;VALUE=DATE-TIME:20020203
UID:https://vzd.cz/zaklady-vedeni-rozhovoru-s-ditetem-velky-vuz-sever-praha-3
URL;VALUE=URI:https://vzd.cz/zaklady-vedeni-rozhovoru-s-ditetem-velky-vuz-sever-praha-3
SUMMARY:Základy vedení rozhovoru s dítětem (Velký vůz Sever\, Praha)
DESCRIPTION:<p><a href=\\"http\://www.velkyvuz-sever.cz/sever/nabidka-kurzu/kurzy-pro-pracovniky-v-socialni-oblasti/zaklady-vedeni-rozhovoru-s-ditetem/\\" title=\\"http\://www.velkyvuz-sever.cz/sever/nabidka-kurzu/kurzy-pro-pracovniky-v-socialni-oblasti/zaklady-vedeni-rozhovoru-s-ditetem/\\">http\://www.velkyvuz-sever.cz/sever/nabidka-kurzu/kurzy-pro-pracovniky-v-...</a></p>
 
END:VEVENT
BEGIN:VEVENT
DTSTAMP;VALUE=DATE-TIME:20260426T005823Z
DTSTART;VALUE=DATE-TIME:20170614T213800Z
DTEND;VALUE=DATE-TIME:20020203
UID:https://vzd.cz/dite-v-nahradni-rodinne-peci-socialni-akademie-ostrava
URL;VALUE=URI:https://vzd.cz/dite-v-nahradni-rodinne-peci-socialni-akademie-ostrava
SUMMARY:Dítě v náhradní rodinné péči (Sociální akademie\, Ostrava)
DESCRIPTION:<p>Kurz pro sociální pracovníky\, vedoucí pracovníky.<br />
 Sociální akademie\, Tovární 2114/11\, Ostrava</p>
 
END:VEVENT
END:VCALENDAR
