BEGIN:VCALENDAR
VERSION:2.0
METHOD:PUBLISH
X-WR-CALNAME:V zájmu dítěte |  Říjen 01 2017- Listopad 01 2017 | Filtr\: 
PRODID:-//strange bird labs//Drupal iCal API//EN
BEGIN:VEVENT
DTSTAMP;VALUE=DATE-TIME:20260425T113315Z
DTSTART;VALUE=DATE-TIME:20171024T120200Z
DTEND;VALUE=DATE-TIME:20020203
UID:https://vzd.cz/rodinne-konference-%E2%80%93-uvod-do-problematiky-amalthea-pardubice-0
URL;VALUE=URI:https://vzd.cz/rodinne-konference-%E2%80%93-uvod-do-problematiky-amalthea-pardubice-0
SUMMARY:Rodinné konference – úvod do problematiky (Amalthea\, Pardubice)
DESCRIPTION:<p>Místo konání\: Pardubice</p>
 
END:VEVENT
BEGIN:VEVENT
DTSTAMP;VALUE=DATE-TIME:20260425T113315Z
DTSTART;VALUE=DATE-TIME:20171025T120800Z
DTEND;VALUE=DATE-TIME:20020203
UID:https://vzd.cz/jak-od-malicka-rozvijet-mysleni-deti-amalthea-pardubice
URL;VALUE=URI:https://vzd.cz/jak-od-malicka-rozvijet-mysleni-deti-amalthea-pardubice
SUMMARY:Jak od malička rozvíjet myšlení dětí (Amalthea\, Pardubice)
DESCRIPTION:<p>Místo konání\: Pardubice</p>
 
END:VEVENT
END:VCALENDAR
