BEGIN:VCALENDAR
VERSION:2.0
METHOD:PUBLISH
X-WR-CALNAME:V zájmu dítěte |  Listopad 01 2017- Prosinec 01 2017 | Filtr\: 
PRODID:-//strange bird labs//Drupal iCal API//EN
BEGIN:VEVENT
DTSTAMP;VALUE=DATE-TIME:20260425T113139Z
DTSTART;VALUE=DATE-TIME:20171101T185900Z
DTEND;VALUE=DATE-TIME:20020203
UID:https://vzd.cz/ifco-world-conference-2017-malta
URL;VALUE=URI:https://vzd.cz/ifco-world-conference-2017-malta
SUMMARY:IFCO World Conference 2017\, Malta 
DESCRIPTION:<p>Světová konference Mezinárodní organizace pěstounské péče IFCO \\"International Foster Care Organisation\\" se bude konat na Maltě v termínu 1.-4. listopadu 2017!</p>
 <p>Video pozvánka je k dispozici na facebookové stránce \\"National Foster Care Association Malta\\"<br />
 <a href=\\"https\://www.facebook.com/NFCAM/videos/1779512065629090/\\" title=\\"https\://www.facebook.com/NFCAM/videos/1779512065629090/\\">https\://www.facebook.com/NFCAM/videos/1779512065629090/</a></p>
 
END:VEVENT
BEGIN:VEVENT
DTSTAMP;VALUE=DATE-TIME:20260425T113139Z
DTSTART;VALUE=DATE-TIME:20171110T121100Z
DTEND;VALUE=DATE-TIME:20020203
UID:https://vzd.cz/komunikacni-dovednosti-komunikacni-pravidla-psychicka-zatez-amalthea-pardubice
URL;VALUE=URI:https://vzd.cz/komunikacni-dovednosti-komunikacni-pravidla-psychicka-zatez-amalthea-pardubice
SUMMARY:Komunikační dovednosti\, komunikační pravidla\, psychická zátěž (Amalthea\, Pardubice)
DESCRIPTION:<p>Místo konání\: Pardubice</p>
 
END:VEVENT
BEGIN:VEVENT
DTSTAMP;VALUE=DATE-TIME:20260425T113139Z
DTSTART;VALUE=DATE-TIME:20171114T121500Z
DTEND;VALUE=DATE-TIME:20020203
UID:https://vzd.cz/rodice-%E2%80%93-uzivatele-drog-v-agende-spod-%E2%80%93-uvod-do-problematiky-amalthea-pardubice
URL;VALUE=URI:https://vzd.cz/rodice-%E2%80%93-uzivatele-drog-v-agende-spod-%E2%80%93-uvod-do-problematiky-amalthea-pardubice
SUMMARY:Rodiče – uživatelé drog v agendě SPOD – úvod do problematiky  (Amalthea\, Pardubice)
DESCRIPTION:<p>Seminář je určen\: sociálním pracovníkům\, pracovníkům v sociálních službách\,<br />
 kteří pracují s ohroženými rodinami s dětmi.<br />
 Seminář je akreditován MPSV\, č. akreditace\: 2016/0227-PC/SP</p>
 
END:VEVENT
BEGIN:VEVENT
DTSTAMP;VALUE=DATE-TIME:20260425T113139Z
DTSTART;VALUE=DATE-TIME:20171129T121600Z
DTEND;VALUE=DATE-TIME:20020203
UID:https://vzd.cz/komunikace-vychova-ditete-v-obdobi-dospivani-rizika-v-tomto-obdobi-amalthea-pardubice
URL;VALUE=URI:https://vzd.cz/komunikace-vychova-ditete-v-obdobi-dospivani-rizika-v-tomto-obdobi-amalthea-pardubice
SUMMARY:Komunikace a výchova dítěte v období dospívání\, rizika v tomto období (Amalthea\, Pardubice)
DESCRIPTION:<p>Místo konání\: Pardubice</p>
 
END:VEVENT
END:VCALENDAR
