BEGIN:VCALENDAR
VERSION:2.0
METHOD:PUBLISH
X-WR-CALNAME:V zájmu dítěte |  Květen 01 2018- Červen 01 2018 | Filtr\: 
PRODID:-//strange bird labs//Drupal iCal API//EN
BEGIN:VEVENT
DTSTAMP;VALUE=DATE-TIME:20260424T232453Z
DTSTART;VALUE=DATE-TIME:20180517T094600Z
DTEND;VALUE=DATE-TIME:20020203
UID:https://vzd.cz/s-duverou-v-rodinu-odborna-konference-amalthea-pardubice
URL;VALUE=URI:https://vzd.cz/s-duverou-v-rodinu-odborna-konference-amalthea-pardubice
SUMMARY: S DŮVĚROU V RODINU - odborná konference (Amalthea\, Pardubice)
DESCRIPTION:<p>Odborná konference s mezinárodní účastí<br />
 Cílem konference je sdílení zkušeností s rodinnými konferencemi v české i zahraniční praxi.</p>
 
END:VEVENT
END:VCALENDAR
