BEGIN:VCALENDAR
VERSION:2.0
METHOD:PUBLISH
X-WR-CALNAME:V zájmu dítěte |  Září 01 2018- Říjen 01 2018 | Filtr\: 
PRODID:-//strange bird labs//Drupal iCal API//EN
BEGIN:VEVENT
DTSTAMP;VALUE=DATE-TIME:20260424T155938Z
DTSTART;VALUE=DATE-TIME:20180926T123100Z
DTEND;VALUE=DATE-TIME:20020203
UID:https://vzd.cz/xviii-celostatni-seminar-aktualni-otazky-pece-o-deti-separovane-od-rodicu-brno
URL;VALUE=URI:https://vzd.cz/xviii-celostatni-seminar-aktualni-otazky-pece-o-deti-separovane-od-rodicu-brno
SUMMARY: XVIII. CELOSTÁTNÍ SEMINÁŘ - AKTUÁLNÍ OTÁZKY PÉČE O DĚTI SEPAROVANÉ OD RODIČŮ (Brno)                              
DESCRIPTION:<p>Místo\: Kancelář veřejného ochránce práv\, Údolní 39\, Brno\, sál Otakara Motejla</p>
 
END:VEVENT
END:VCALENDAR
