BEGIN:VCALENDAR
VERSION:2.0
METHOD:PUBLISH
X-WR-CALNAME:V zájmu dítěte |  Listopad 01 2018- Prosinec 01 2018 | Filtr\: 
PRODID:-//strange bird labs//Drupal iCal API//EN
BEGIN:VEVENT
DTSTAMP;VALUE=DATE-TIME:20260424T124843Z
DTSTART;VALUE=DATE-TIME:20181119T122200Z
DTEND;VALUE=DATE-TIME:20020203
UID:https://vzd.cz/konference-za-dvermi-iivelky-vuz-sever
URL;VALUE=URI:https://vzd.cz/konference-za-dvermi-iivelky-vuz-sever
SUMMARY:Konference Za dveřmi II.(Velký vůz Sever)
DESCRIPTION:<p>Dětská psychoterapie aneb Proč každý psychoterapeut pracuje s dítětem jinak<br />
 Místo konání\: Komunitním centrum Matky Terezy v Praze<br />
 Bližší informace o konferenci naleznete na stránkách\:<br />
 <a href=\\"http\://www.velkyvuz-sever.cz/konference-2018/\\" title=\\"http\://www.velkyvuz-sever.cz/konference-2018/\\">http\://www.velkyvuz-sever.cz/konference-2018/</a></p>
 
END:VEVENT
END:VCALENDAR
