BEGIN:VCALENDAR
VERSION:2.0
METHOD:PUBLISH
X-WR-CALNAME:V zájmu dítěte |  Září 01 2019- Říjen 01 2019 | Filtr\: 
PRODID:-//strange bird labs//Drupal iCal API//EN
BEGIN:VEVENT
DTSTAMP;VALUE=DATE-TIME:20260423T201000Z
DTSTART;VALUE=DATE-TIME:20190925T213900Z
DTEND;VALUE=DATE-TIME:20020203
UID:https://vzd.cz/xix-celostatni-seminar-aktualni-otazky-pece-o-deti-separovane-od-rodicu
URL;VALUE=URI:https://vzd.cz/xix-celostatni-seminar-aktualni-otazky-pece-o-deti-separovane-od-rodicu
SUMMARY:XIX. celostátní seminář AKTUÁLNÍ OTÁZKY PÉČE O DĚTI SEPAROVANÉ OD RODIČŮ 
DESCRIPTION:<p><a href=\\"http\://www.triada-centrum.cz/\\" title=\\"http\://www.triada-centrum.cz/\\">http\://www.triada-centrum.cz/</a></p>
 <p><a href=\\"http\://www.triada-centrum.cz/images/XIX_program.pdf\\" title=\\"http\://www.triada-centrum.cz/images/XIX_program.pdf\\">http\://www.triada-centrum.cz/images/XIX_program.pdf</a></p>
 
END:VEVENT
END:VCALENDAR
