BEGIN:VCALENDAR
VERSION:2.0
METHOD:PUBLISH
X-WR-CALNAME:V zájmu dítěte |  Říjen 01 2019- Listopad 01 2019 | Filtr\: 
PRODID:-//strange bird labs//Drupal iCal API//EN
BEGIN:VEVENT
DTSTAMP;VALUE=DATE-TIME:20260423T185455Z
DTSTART;VALUE=DATE-TIME:20191010T074400Z
DTEND;VALUE=DATE-TIME:20020203
UID:https://vzd.cz/my-backpack-triada-brno
URL;VALUE=URI:https://vzd.cz/my-backpack-triada-brno
SUMMARY:My BACKPACK (Triáda\, Brno)
DESCRIPTION:<p>Termíny 2019\:<br />
 10. - 11. 10. a 14. 11. 2019</p>
 
END:VEVENT
END:VCALENDAR
