BEGIN:VCALENDAR
VERSION:2.0
METHOD:PUBLISH
X-WR-CALNAME:V zájmu dítěte |  Prosinec 01 2019- Leden 01 2020 | Filtr\: 
PRODID:-//strange bird labs//Drupal iCal API//EN
BEGIN:VEVENT
DTSTAMP;VALUE=DATE-TIME:20260423T161827Z
DTSTART;VALUE=DATE-TIME:20191203T113600Z
DTEND;VALUE=DATE-TIME:20020203
UID:https://vzd.cz/pozvanka-na-konferenci-k-30-vyroci-prijeti-umluvy-o-pravech-ditete
URL;VALUE=URI:https://vzd.cz/pozvanka-na-konferenci-k-30-vyroci-prijeti-umluvy-o-pravech-ditete
SUMMARY:Pozvánka na konferenci k 30. výročí přijetí Úmluvy o právech dítěte
DESCRIPTION:<p><a href=\\"http\://www.pravonadetstvi.cz/aktuality/pozvanka-na-konferenci-k-30-vyroci-prijeti-umluvy-o-pravech-ditete.html\\" title=\\"http\://www.pravonadetstvi.cz/aktuality/pozvanka-na-konferenci-k-30-vyroci-prijeti-umluvy-o-pravech-ditete.html\\">http\://www.pravonadetstvi.cz/aktuality/pozvanka-na-konferenci-k-30-vyroc...</a></p>
 <p>Před 30 lety byl na mezinárodní úrovni přijat akt\, který zakotvuje\, že i dětem náleží místo v pojmu „každý“\, hovoří-li se o základních právech člověka. Daří se nám toto v České republice naplňovat? A jsou u nás děti skutečně „každým“? Přijďte s námi diskutovat\, co prospívá\, či naopak brání účinnému naplňování Úmluvy o právech dítěte. </p>
 <p>Vážení kolegové\,</p>
 
END:VEVENT
END:VCALENDAR
