BEGIN:VCALENDAR
VERSION:2.0
METHOD:PUBLISH
X-WR-CALNAME:V zájmu dítěte |  Duben 01 2020- Květen 01 2020 | Filtr\: 
PRODID:-//strange bird labs//Drupal iCal API//EN
BEGIN:VEVENT
DTSTAMP;VALUE=DATE-TIME:20260423T111734Z
DTSTART;VALUE=DATE-TIME:20200417T122400Z
DTEND;VALUE=DATE-TIME:20020203
UID:https://vzd.cz/workshop-metody-my-backpack
URL;VALUE=URI:https://vzd.cz/workshop-metody-my-backpack
SUMMARY:Workshop metody My Backpack
DESCRIPTION:<p>Místo konání\:	Brno\, Vackova 44\, 612 00</p>
 
END:VEVENT
END:VCALENDAR
